BEGIN:VCALENDAR
VERSION:2.0
PRODID:spatie/icalendar-generator
DESCRIPTION:Events from DepEd Batanes
X-WR-CALDESC:Events from DepEd Batanes
REFRESH-INTERVAL;VALUE=DURATION:PT1440M
X-PUBLISHED-TTL:PT1440M
BEGIN:VTIMEZONE
TZID:Asia/Singapore
BEGIN:STANDARD
DTSTART:20250512T080000Z
TZOFFSETFROM:+0800
TZOFFSETTO:+0800
END:STANDARD
END:VTIMEZONE
BEGIN:VTIMEZONE
TZID:UTC
BEGIN:STANDARD
DTSTART:20250724T101229Z
TZOFFSETFROM:+0000
TZOFFSETTO:+0000
END:STANDARD
END:VTIMEZONE
BEGIN:VEVENT
UID:8-8
DTSTAMP:20260420T101229Z
SUMMARY:DIVISION UPSKILLING OF ARAL TUTORS AND SCHOOL HEADS ON ARAL READING
  PROGRAM
LOCATION:Mahatao Central School
ORGANIZER;CN=admin:MAILTO:jonas.trillana@deped.gov.ph
DTSTART;TZID=Asia/Singapore:20260206T080000
DTEND;TZID=Asia/Singapore:20260207T170000
X-ALT-DESC;FMTTYPE=TEXT/HTML:Mahatao\, Ivana\, Uyugan and Sabtang Schools
CATEGORIES:CID
URL;VALUE=URI:https://depedbatanes.com/mc-events/division-upskilling-of-ara
 l-tutors-and-school-heads-on-aral-reading-program-2/
METHOD:PUBLISH
END:VEVENT
END:VCALENDAR