BEGIN:VCALENDAR
VERSION:2.0
PRODID:spatie/icalendar-generator
DESCRIPTION:Events from DepEd Batanes
X-WR-CALDESC:Events from DepEd Batanes
REFRESH-INTERVAL;VALUE=DURATION:PT1440M
X-PUBLISHED-TTL:PT1440M
BEGIN:VTIMEZONE
TZID:Asia/Singapore
BEGIN:STANDARD
DTSTART:20250504T200000Z
TZOFFSETFROM:+0800
TZOFFSETTO:+0800
END:STANDARD
END:VTIMEZONE
BEGIN:VTIMEZONE
TZID:UTC
BEGIN:STANDARD
DTSTART:20250723T123843Z
TZOFFSETFROM:+0000
TZOFFSETTO:+0000
END:STANDARD
END:VTIMEZONE
BEGIN:VEVENT
UID:11-11
DTSTAMP:20260419T123843Z
SUMMARY:School-Based Feeding Program Program Implementation Review
LOCATION:Curriculum Implementation Division
ORGANIZER;CN=admin:MAILTO:jonas.trillana@deped.gov.ph
DTSTART;TZID=Asia/Singapore:20260129T200000
DTEND;TZID=Asia/Singapore:20260130T170000
X-ALT-DESC;FMTTYPE=TEXT/HTML:
CATEGORIES:SGOD
URL;VALUE=URI:https://depedbatanes.com/mc-events/school-based-feeding-progr
 am-program-implementation-review/
METHOD:PUBLISH
END:VEVENT
END:VCALENDAR